BEGIN:VCALENDAR
VERSION:2.0
PRODID:-//Sanctuary of Hope - ECPv6.15.20//NONSGML v1.0//EN
CALSCALE:GREGORIAN
METHOD:PUBLISH
X-WR-CALNAME:Sanctuary of Hope
X-ORIGINAL-URL:https://thesoh.org
X-WR-CALDESC:Events for Sanctuary of Hope
REFRESH-INTERVAL;VALUE=DURATION:PT1H
X-Robots-Tag:noindex
X-PUBLISHED-TTL:PT1H
BEGIN:VTIMEZONE
TZID:America/Los_Angeles
BEGIN:DAYLIGHT
TZOFFSETFROM:-0800
TZOFFSETTO:-0700
TZNAME:PDT
DTSTART:20240310T100000
END:DAYLIGHT
BEGIN:STANDARD
TZOFFSETFROM:-0700
TZOFFSETTO:-0800
TZNAME:PST
DTSTART:20241103T090000
END:STANDARD
BEGIN:DAYLIGHT
TZOFFSETFROM:-0800
TZOFFSETTO:-0700
TZNAME:PDT
DTSTART:20250309T100000
END:DAYLIGHT
BEGIN:STANDARD
TZOFFSETFROM:-0700
TZOFFSETTO:-0800
TZNAME:PST
DTSTART:20251102T090000
END:STANDARD
BEGIN:DAYLIGHT
TZOFFSETFROM:-0800
TZOFFSETTO:-0700
TZNAME:PDT
DTSTART:20260308T100000
END:DAYLIGHT
BEGIN:STANDARD
TZOFFSETFROM:-0700
TZOFFSETTO:-0800
TZNAME:PST
DTSTART:20261101T090000
END:STANDARD
END:VTIMEZONE
BEGIN:VEVENT
DTSTART;TZID=America/Los_Angeles:20251031T130000
DTEND;TZID=America/Los_Angeles:20251031T150000
DTSTAMP:20260423T083149
CREATED:20251030T231610Z
LAST-MODIFIED:20251030T231610Z
UID:4174-1761915600-1761922800@thesoh.org
SUMMARY:HerTuary: Heart Check
DESCRIPTION:💜 October is Domestic Violence Awareness Month 💜 \nJoin us for a powerful HerTuary experience that celebrates love\, safety\, and sisterhood — and reminds us that healing starts with a heart check. \n💫 Heart Check: What Does Healthy Love Look Like?\n🗓 Thursday\, October 31\, 2025\n🕐 1:00 PM – 3:00 PM\n📍 4003 W. Adams Blvd\, Los Angeles\, CA 90018 \nThis uplifting conversation will help us reimagine love — free from harm\, rooted in respect\, and grounded in self-worth. Together\, we’ll explore how to recognize healthy relationships and empower one another to break cycles of gender-based violence. \n✨ Special Guests:\n💬 Kandee Lewis\, Executive Director\, Positive Results Center\n💬 Cierrow Russell\, Community Advocate \n💜 Reserve your spot!\n📱 Text (424) 337-0762
URL:https://thesoh.org/event/hertuary-heart-check/
LOCATION:4003 W Adams Blvd\, Los Angeles\, CA 90018\, 4003 W. Adams Blvd.\, Los Angeles\, CA\, 90018-0000\, United States
CATEGORIES:Community
ATTACH;FMTTYPE=image/jpeg:https://thesoh.org/wp-content/uploads/2025/10/IMG_4548.jpeg
END:VEVENT
END:VCALENDAR