BEGIN:VCALENDAR
VERSION:2.0
PRODID:-//Sanctuary of Hope - ECPv6.15.20//NONSGML v1.0//EN
CALSCALE:GREGORIAN
METHOD:PUBLISH
X-ORIGINAL-URL:https://thesoh.org
X-WR-CALDESC:Events for Sanctuary of Hope
REFRESH-INTERVAL;VALUE=DURATION:PT1H
X-Robots-Tag:noindex
X-PUBLISHED-TTL:PT1H
BEGIN:VTIMEZONE
TZID:America/Los_Angeles
BEGIN:DAYLIGHT
TZOFFSETFROM:-0800
TZOFFSETTO:-0700
TZNAME:PDT
DTSTART:20250309T100000
END:DAYLIGHT
BEGIN:STANDARD
TZOFFSETFROM:-0700
TZOFFSETTO:-0800
TZNAME:PST
DTSTART:20251102T090000
END:STANDARD
BEGIN:DAYLIGHT
TZOFFSETFROM:-0800
TZOFFSETTO:-0700
TZNAME:PDT
DTSTART:20260308T100000
END:DAYLIGHT
BEGIN:STANDARD
TZOFFSETFROM:-0700
TZOFFSETTO:-0800
TZNAME:PST
DTSTART:20261101T090000
END:STANDARD
BEGIN:DAYLIGHT
TZOFFSETFROM:-0800
TZOFFSETTO:-0700
TZNAME:PDT
DTSTART:20270314T100000
END:DAYLIGHT
BEGIN:STANDARD
TZOFFSETFROM:-0700
TZOFFSETTO:-0800
TZNAME:PST
DTSTART:20271107T090000
END:STANDARD
END:VTIMEZONE
BEGIN:VEVENT
DTSTART;TZID=America/Los_Angeles:20260301T170000
DTEND;TZID=America/Los_Angeles:20260301T200000
DTSTAMP:20260423T041835
CREATED:20260225T170144Z
LAST-MODIFIED:20260226T044406Z
UID:4264-1772384400-1772395200@thesoh.org
SUMMARY:The Dash That Made the Difference -A Community Film Screening & Dialogue
DESCRIPTION:Sanctuary of Hope is proud to host the rescheduled screening of The Dash That Made the Difference in partnership with LIVE FREE California and SCLC Southern California. \nThis powerful film reflects on grassroots organizing from Lowndes County\, Alabama and explores how those lessons continue to shape youth-led movements in Los Angeles today. \nThis is more than a screening.It is a community gathering rooted in legacy\, leadership\, and action. \nFrom the courageous fight for voting rights in Alabama to transformational youth organizing across Los Angeles\, this evening will connect history to the present moment — and remind us that every generation carries the work forward. \nAt Sanctuary of Hope\, we believe: \n\n\nStrategy is inherited. \n\n\nLeadership is cultivated. \n\n\nChange is sustained when young people understand they are part of a longer story. \n\n\nJoin us for an evening of film\, youth voices\, and community dialogue as we honor the past and strengthen the future. \nRegister Today\nSpots are limited. We invite community members\, partners\, youth leaders\, and advocates to attend. \n👉 Register here:https://tinyurl.com/ScreeningatSS
URL:https://thesoh.org/event/the-dash-that-made-the-difference-a-community-film-screening-dialogue/
ATTACH;FMTTYPE=image/jpeg:https://thesoh.org/wp-content/uploads/2026/02/SOH-Film-Screening.jpg
END:VEVENT
END:VCALENDAR