BEGIN:VCALENDAR
VERSION:2.0
PRODID:-//Sanctuary of Hope - ECPv6.15.20//NONSGML v1.0//EN
CALSCALE:GREGORIAN
METHOD:PUBLISH
X-WR-CALNAME:Sanctuary of Hope
X-ORIGINAL-URL:https://thesoh.org
X-WR-CALDESC:Events for Sanctuary of Hope
REFRESH-INTERVAL;VALUE=DURATION:PT1H
X-Robots-Tag:noindex
X-PUBLISHED-TTL:PT1H
BEGIN:VTIMEZONE
TZID:America/Los_Angeles
BEGIN:DAYLIGHT
TZOFFSETFROM:-0800
TZOFFSETTO:-0700
TZNAME:PDT
DTSTART:20190310T100000
END:DAYLIGHT
BEGIN:STANDARD
TZOFFSETFROM:-0700
TZOFFSETTO:-0800
TZNAME:PST
DTSTART:20191103T090000
END:STANDARD
BEGIN:DAYLIGHT
TZOFFSETFROM:-0800
TZOFFSETTO:-0700
TZNAME:PDT
DTSTART:20200308T100000
END:DAYLIGHT
BEGIN:STANDARD
TZOFFSETFROM:-0700
TZOFFSETTO:-0800
TZNAME:PST
DTSTART:20201101T090000
END:STANDARD
BEGIN:DAYLIGHT
TZOFFSETFROM:-0800
TZOFFSETTO:-0700
TZNAME:PDT
DTSTART:20210314T100000
END:DAYLIGHT
BEGIN:STANDARD
TZOFFSETFROM:-0700
TZOFFSETTO:-0800
TZNAME:PST
DTSTART:20211107T090000
END:STANDARD
BEGIN:DAYLIGHT
TZOFFSETFROM:-0800
TZOFFSETTO:-0700
TZNAME:PDT
DTSTART:20220313T100000
END:DAYLIGHT
BEGIN:STANDARD
TZOFFSETFROM:-0700
TZOFFSETTO:-0800
TZNAME:PST
DTSTART:20221106T090000
END:STANDARD
BEGIN:DAYLIGHT
TZOFFSETFROM:-0800
TZOFFSETTO:-0700
TZNAME:PDT
DTSTART:20230312T100000
END:DAYLIGHT
BEGIN:STANDARD
TZOFFSETFROM:-0700
TZOFFSETTO:-0800
TZNAME:PST
DTSTART:20231105T090000
END:STANDARD
BEGIN:DAYLIGHT
TZOFFSETFROM:-0800
TZOFFSETTO:-0700
TZNAME:PDT
DTSTART:20240310T100000
END:DAYLIGHT
BEGIN:STANDARD
TZOFFSETFROM:-0700
TZOFFSETTO:-0800
TZNAME:PST
DTSTART:20241103T090000
END:STANDARD
BEGIN:DAYLIGHT
TZOFFSETFROM:-0800
TZOFFSETTO:-0700
TZNAME:PDT
DTSTART:20250309T100000
END:DAYLIGHT
BEGIN:STANDARD
TZOFFSETFROM:-0700
TZOFFSETTO:-0800
TZNAME:PST
DTSTART:20251102T090000
END:STANDARD
END:VTIMEZONE
BEGIN:VTIMEZONE
TZID:America/Los_Angeles
BEGIN:DAYLIGHT
TZOFFSETFROM:-0800
TZOFFSETTO:-0700
TZNAME:PDT
DTSTART:20190310T100000
END:DAYLIGHT
BEGIN:STANDARD
TZOFFSETFROM:-0700
TZOFFSETTO:-0800
TZNAME:PST
DTSTART:20191103T090000
END:STANDARD
BEGIN:DAYLIGHT
TZOFFSETFROM:-0800
TZOFFSETTO:-0700
TZNAME:PDT
DTSTART:20200308T100000
END:DAYLIGHT
BEGIN:STANDARD
TZOFFSETFROM:-0700
TZOFFSETTO:-0800
TZNAME:PST
DTSTART:20201101T090000
END:STANDARD
BEGIN:DAYLIGHT
TZOFFSETFROM:-0800
TZOFFSETTO:-0700
TZNAME:PDT
DTSTART:20210314T100000
END:DAYLIGHT
BEGIN:STANDARD
TZOFFSETFROM:-0700
TZOFFSETTO:-0800
TZNAME:PST
DTSTART:20211107T090000
END:STANDARD
END:VTIMEZONE
BEGIN:VTIMEZONE
TZID:UTC
BEGIN:STANDARD
TZOFFSETFROM:+0000
TZOFFSETTO:+0000
TZNAME:UTC
DTSTART:20190101T000000
END:STANDARD
END:VTIMEZONE
BEGIN:VEVENT
DTSTART;TZID=America/Los_Angeles:20240926T100000
DTEND;TZID=America/Los_Angeles:20240926T170000
DTSTAMP:20260423T132810
CREATED:20240725T153632Z
LAST-MODIFIED:20240725T153632Z
UID:3738-1727344800-1727370000@thesoh.org
SUMMARY:LAP3/OYC Convening Sheltering Hope: Highlighting Providers Serving Unhoused TAY
DESCRIPTION:Housing instability is a major problem for Transition Age Youth in Los Angeles County. Join\nus for a conversation highlighting the services of four agencies working to provide not only\nhousing services but also a sense of community and belonging to TAY. Our youth panel will\nshare insights and reflections for all those working with unhoused youth. Our presenters\ninclude the Coalition for Responsible Community Development\, Sycamores\, Shower of Hope\nand Sanctuary of Hope.
URL:https://thesoh.org/event/lap3-oyc-convening-sheltering-hope-highlighting-providers-serving-unhoused-tay/
CATEGORIES:Community
ATTACH;FMTTYPE=image/jpeg:https://thesoh.org/wp-content/uploads/2024/07/Screenshot-2024-07-25-083101.jpg
END:VEVENT
BEGIN:VEVENT
DTSTART;TZID=America/Los_Angeles:20240725T120000
DTEND;TZID=America/Los_Angeles:20240725T150000
DTSTAMP:20260423T132810
CREATED:20240725T151644Z
LAST-MODIFIED:20240725T151804Z
UID:3733-1721908800-1721919600@thesoh.org
SUMMARY:The Mantuary July 2024
DESCRIPTION:Step into Sanctuary of Hope’s Mantuary\, a dedicated safe space for men for men to converse\, share a meal\, and get a haircut. This month we are recognized Mental Health month and discussing topics that men from multi-generations care about.
URL:https://thesoh.org/event/the-mantuary-july-2024/
LOCATION:4003 W Adams Blvd\, Los Angeles\, CA 90018\, 4003 W. Adams Blvd.\, Los Angeles\, CA\, 90018-0000\, United States
ATTACH;FMTTYPE=image/jpeg:https://thesoh.org/wp-content/uploads/2024/07/Screenshot-2024-07-25-071056.jpg
ORGANIZER;CN="Sanctuary of Hope":MAILTO:collegeican@thesoh.org
END:VEVENT
BEGIN:VEVENT
DTSTART;TZID=America/Los_Angeles:20240530T120000
DTEND;TZID=America/Los_Angeles:20240530T150000
DTSTAMP:20260423T132810
CREATED:20240523T155326Z
LAST-MODIFIED:20240523T155326Z
UID:3684-1717070400-1717081200@thesoh.org
SUMMARY:The Mantuary
DESCRIPTION:Step into our dedicated space for men this month at Sanctuary of Hope and take a break from the hustle and bustle with free haircuts\, delicious BBQ\, and meaningful conversations. Let’s prioritize mental health and well-being together in a positive environment in the Mantuary. Join us to support each other in destressing and unwinding!
URL:https://thesoh.org/event/the-mantuary/
END:VEVENT
BEGIN:VEVENT
DTSTART;TZID=America/Los_Angeles:20221129T180000
DTEND;TZID=America/Los_Angeles:20221129T200000
DTSTAMP:20260423T132810
CREATED:20221128T205346Z
LAST-MODIFIED:20221128T210339Z
UID:3176-1669744800-1669752000@thesoh.org
SUMMARY:Candlelight Interfaith Prayer and Youth Voice Reflections
DESCRIPTION:  \n  \nSanctuary of Hope Culminates Runaway & Homeless Youth Awareness Month with a Community Candlelight Event to Shed Light on the Issues \nSanctuary of Hope (SOH)\, a local nonprofit youth development and human service organization for Transitional Age Youth\, will culminate Runaway Prevention and Homeless Youth Awareness Month on Tuesday\, November 29th at 6pm with a Candlelight Interfaith Prayer and Youth Voice Reflections on the outside steps of Sanctuary of Hope at 4003 W. Adams Blvd.\, Los Angeles\, CA 90018. \nThe facts around youth homelessness are staggering. An estimated 4.2 million youth and young adults experience homelessness\, of which 700\,000 are unaccompanied minors\, meaning they are not part of a family or accompanied by a parent or guardian. On any given night\, approximately 41\,000 unaccompanied youth ages 13-25 experience homelessness. Runaway and homeless youth are vulnerable to multiple threats\, including not having their basic food and shelter needs met\, untreated mental health disorders\, substance use\, sexually transmitted diseases and HIV infection\, sexual exploitation\, physical victimization and suicide. A housing crisis puts young people at huge risk of more violence and trauma\, and right now young people\, and their children\, need support more than ever. \n  \n“Prevention is the pathway to preventing youth homelessness\, or what we call ‘functional zero’\, and it is our belief that youth homelessness should be rare\, non-reoccurring and brief\,” stated Janet Kelly\, Executive Director of SOH. “We are inviting all of our stakeholders to be in community with us to ensure that our young people receive all of the necessary resources and supports to prevent them for entering into a homeless crisis.” \n  \nTuesday night’s event will feature reflections from youth who have experienced homelessness\, and their resiliency to persevere\, along with local interfaith leaders and others who will offer prayers around the issues facing homeless and runaway youth. Among the faith leaders confirmed to participate are: Pastor Cue-Jn Marie\, Skidrow Church Without Walls; Pastor Walter Contreras\, CLUE-LA Black & Brown Alliance; Rabbi Neil Comess-Daniels\, Rabbi Emeritus\, Beth Shir Shalom; Sister Atra Flemons\, ISLA Muslim Community\, and the Zen Center L.A.\, along with several others. \n  \nInformation and resources will be available. The community is invited to attend. Coffee and refreshments will be served. \n  \n 
URL:https://thesoh.org/event/candlelight-interfaith-prayer-and-youth-voice-reflections/
CATEGORIES:Community
ATTACH;FMTTYPE=image/jpeg:https://thesoh.org/wp-content/uploads/2022/11/SOH_HYAM-Candlelight2022-2.jpg
END:VEVENT
BEGIN:VEVENT
DTSTART;TZID=America/Los_Angeles:20221026T100000
DTEND;TZID=America/Los_Angeles:20221026T113000
DTSTAMP:20260423T132810
CREATED:20221013T031446Z
LAST-MODIFIED:20221013T031446Z
UID:3107-1666778400-1666783800@thesoh.org
SUMMARY:Sanctuary of Hope Host Home Community Reveal
DESCRIPTION:Sanctuary of Hope is hosting a Host Home Community Reveal on 10/26\, 10 am on Zoom.  The purpose of the reveal is to inform our community stakeholders about our upcoming Host Home pilot launch in 2023 and what we have learned from a year of planning and focus groups.Register here. \n  \n 
URL:https://thesoh.org/event/sanctuary-of-hope-host-home-community-reveal/
CATEGORIES:Community
ATTACH;FMTTYPE=image/jpeg:https://thesoh.org/wp-content/uploads/2022/10/HostHome-scaled.jpg
END:VEVENT
BEGIN:VEVENT
DTSTART;TZID=America/Los_Angeles:20220721T080000
DTEND;TZID=America/Los_Angeles:20220721T170000
DTSTAMP:20260423T132810
CREATED:20220724T150044Z
LAST-MODIFIED:20220721T200749Z
UID:2964-1658390400-1658422800@thesoh.org
SUMMARY:2nd Annual Unity March
DESCRIPTION:
URL:https://thesoh.org/event/2nd-annual-unity-march/
LOCATION:3939 S. Figueroa St. Los Angeles\, CA 90037\, 3939 S. Figueroa St.\, Los Angeles\, CA\, 90037\, United States
CATEGORIES:Community
ATTACH;FMTTYPE=image/jpeg:https://thesoh.org/wp-content/uploads/2022/07/FYIOdmRXwAEsQOH.jpeg
ORGANIZER;CN="Brotherhood Crusade":MAILTO:info@brotherhoodcrusade.org
END:VEVENT
BEGIN:VEVENT
DTSTART;TZID=America/Los_Angeles:20201105T100000
DTEND;TZID=America/Los_Angeles:20201105T120000
DTSTAMP:20260423T132810
CREATED:20201031T143403Z
LAST-MODIFIED:20201031T143431Z
UID:2395-1604570400-1604577600@thesoh.org
SUMMARY:Homeless Youth Awareness Month Brunch Kick-Off
DESCRIPTION:Join Sanctuary of Hope for our annual Homeless Youth Awareness Month Kick-Off.  We have some community guests and panel of youth and young adults who have overcome and demonstrated resiliency.  For more details\, read press release here.
URL:https://thesoh.org/event/homeless-youth-awareness-month-brunch-kick-off/
END:VEVENT
BEGIN:VEVENT
DTSTART;TZID=America/Los_Angeles:20200924T170000
DTEND;TZID=America/Los_Angeles:20200924T190000
DTSTAMP:20260423T132810
CREATED:20200918T010008Z
LAST-MODIFIED:20200918T010721Z
UID:2280-1600966800-1600974000@thesoh.org
SUMMARY:Census and Voter Education Happy Hour
DESCRIPTION:Music and information are a combination for activism. Join @SanctuaryofHopeLA\, 9/24\, 5 pm\, PST\, on Facebook Live for a virtual Census and Voter Education Happy Hour with DJ C.J. Flash. Prepare your favorite drink for our music\, mingle\, and education unwind event to increase census completion and voter turnout. \nDon’t worry if you don’t have a social media account. The Happy Hour will stream live on SOH’s homepage at www.thesoh.org.
URL:https://thesoh.org/event/census-and-voter-education-happy-hour/
LOCATION:FB Live @SanctuaryofHopeLA
ATTACH;FMTTYPE=image/jpeg:https://thesoh.org/wp-content/uploads/2020/09/thumbnail_HappyHour-1.jpg
END:VEVENT
BEGIN:VEVENT
DTSTART;TZID=America/Los_Angeles:20200823T160000
DTEND;TZID=America/Los_Angeles:20200823T170000
DTSTAMP:20260423T132810
CREATED:20200818T171849Z
LAST-MODIFIED:20200818T171928Z
UID:2217-1598198400-1598202000@thesoh.org
SUMMARY:#WokeMoments Back-To-School Conversation
DESCRIPTION:  \nJoin us this Sunday\, 8/23\, 4 pm\, FB Live\, @SanctuaryofHopeLA for a conversation on improving educational outcomes for students facing housing insecurities. Hear from experience experts and thought leaders in the field supporting academic achievement of students on the margins. #WokeMoments
URL:https://thesoh.org/event/wokemoments-back-to-school-conversation/
LOCATION:FB Live @SanctuaryofHopeLA
ATTACH;FMTTYPE=image/jpeg:https://thesoh.org/wp-content/uploads/2020/08/Woke_Podcast8_23_20.jpg
END:VEVENT
BEGIN:VEVENT
DTSTART;TZID=America/Los_Angeles:20200818T080000
DTEND;TZID=America/Los_Angeles:20200818T170000
DTSTAMP:20260423T132810
CREATED:20200818T172156Z
LAST-MODIFIED:20200818T172156Z
UID:2219-1597737600-1597770000@thesoh.org
SUMMARY:Caravan and Rally at Leimert Park
DESCRIPTION:Looking to get into some “Good Trouble”? Join SCLC of Southern California and participating organizations on 8/28 for a caravan and rally in Leimert Park in the afternoon and a virtual townhall in the evening to commemorate the 57th March on Washington. See flyer for more details or contact info@sclc-sc.org.
URL:https://thesoh.org/event/caravan-and-rally-at-leimert-park/
ATTACH;FMTTYPE=image/jpeg:https://thesoh.org/wp-content/uploads/2020/08/March-on-Washington.jpg
END:VEVENT
BEGIN:VEVENT
DTSTART;TZID=America/Los_Angeles:20200729T160000
DTEND;TZID=America/Los_Angeles:20200729T200000
DTSTAMP:20260423T132810
CREATED:20200724T194513Z
LAST-MODIFIED:20200724T194513Z
UID:2181-1596038400-1596052800@thesoh.org
SUMMARY:SOH 10 Year Anniversary Virtual Party
DESCRIPTION:We are not letting COVID-19 get in the way of celebrating 10 years of Sanctuary of Hope’s impact in our community. We’re having a virtual party July 29\, 4 pm\, on FB Live @SanctuaryofHopeLA or by visiting our home page to celebrate over 4\,000 youth served; and 10 years of progress with you. You can dance and listen from the comforts of wherever you are while also learning about SOH’s history and hearing reflections from the community. Please join us and support our life saving work with a donation to https://bit.ly/GiveSOH10 . #SOHLA10
URL:https://thesoh.org/event/soh-10-year-anniversary-virtual-party/
ATTACH;FMTTYPE=image/jpeg:https://thesoh.org/wp-content/uploads/2020/07/SOH_10Year_Invite.jpg
END:VEVENT
BEGIN:VEVENT
DTSTART;TZID=America/Los_Angeles:20200722T160000
DTEND;TZID=America/Los_Angeles:20200722T180000
DTSTAMP:20260423T132810
CREATED:20200706T223344Z
LAST-MODIFIED:20200706T224309Z
UID:2164-1595433600-1595440800@thesoh.org
SUMMARY:College Wednesdays
DESCRIPTION:Make the best of the summer by receiving education support to prepare for college\, transfer\, or stay on track to complete your studies.  To participate in College Wednesdays\, please email collegeican@thesoh.org for Zoom information or one-on-one appointment. \n 
URL:https://thesoh.org/event/college-wednesdays-3/
LOCATION:Zoom
ATTACH;FMTTYPE=image/jpeg:https://thesoh.org/wp-content/uploads/2020/07/College_Wednesdays-scaled.jpg
END:VEVENT
BEGIN:VEVENT
DTSTART;TZID=America/Los_Angeles:20200715T160000
DTEND;TZID=America/Los_Angeles:20200715T180000
DTSTAMP:20260423T132810
CREATED:20200706T222840Z
LAST-MODIFIED:20200706T223610Z
UID:2160-1594828800-1594836000@thesoh.org
SUMMARY:College Wednesdays
DESCRIPTION:Make the best of the summer by receiving education support to prepare for college\, transfer\, or stay on track to complete your studies.  To participate in College Wednesdays\, please email collegeican@thesoh.org for Zoom information or one-on-one appointment. \n 
URL:https://thesoh.org/event/college-wednesdays-2/
LOCATION:Zoom
ATTACH;FMTTYPE=image/jpeg:https://thesoh.org/wp-content/uploads/2020/07/College_Wednesdays-scaled.jpg
END:VEVENT
BEGIN:VEVENT
DTSTART;TZID=America/Los_Angeles:20200708T160000
DTEND;TZID=America/Los_Angeles:20200708T180000
DTSTAMP:20260423T132810
CREATED:20200706T222128Z
LAST-MODIFIED:20200706T222946Z
UID:2156-1594224000-1594231200@thesoh.org
SUMMARY:College Wednesdays
DESCRIPTION:Make the best of the summer by receiving education support to prepare for college\, transfer\, or stay on track to complete your studies.  To participate in College Wednesdays\, please email collegeican@thesoh.org for Zoom information or one-on-one appointment. \n  \n 
URL:https://thesoh.org/event/college-wednesdays/
LOCATION:Zoom
ATTACH;FMTTYPE=image/jpeg:https://thesoh.org/wp-content/uploads/2020/07/College_Wednesdays-scaled.jpg
ORGANIZER;CN="Sanctuary of Hope":MAILTO:collegeican@thesoh.org
END:VEVENT
BEGIN:VEVENT
DTSTART;TZID=America/Los_Angeles:20200706T160000
DTEND;TZID=America/Los_Angeles:20200729T180000
DTSTAMP:20260423T132810
CREATED:20200706T223514Z
LAST-MODIFIED:20200706T223514Z
UID:2166-1594051200-1596045600@thesoh.org
SUMMARY:College Wednesdays
DESCRIPTION:Make the best of the summer by receiving education support to prepare for college\, transfer\, or stay on track to complete your studies.  To participate in College Wednesdays\, please email collegeican@thesoh.org or call 323-786-2413 for Zoom information or one-on-one appointment. \n 
URL:https://thesoh.org/event/college-wednesdays-4/
ATTACH;FMTTYPE=image/jpeg:https://thesoh.org/wp-content/uploads/2020/07/College_Wednesdays-scaled.jpg
END:VEVENT
BEGIN:VEVENT
DTSTART;TZID=America/Los_Angeles:20200625T100000
DTEND;TZID=America/Los_Angeles:20200625T120000
DTSTAMP:20260423T132810
CREATED:20200618T080619Z
LAST-MODIFIED:20200623T172835Z
UID:2124-1593079200-1593086400@thesoh.org
SUMMARY:2nd Annual Conversations on Family Instability and Reunification
DESCRIPTION:Thursday\, June 25\, 10 am PST\, join us on FB Live for our 2nd Annual Conversations on Family Instability and Reunification. We are centering the conversation on helping families succeed and stay intact. Our featured guests will include reunified parents\, kin\, caregivers\, and youth; mentors; and thought leaders in the areas of youth development and family stability. Topics will highlight family and aftercare support\, mentorship\, immigration\, and tools for family success. Be sure to tune into FB Live\, like our page and follow us at @Sanctuaryof HopeLA.
URL:https://thesoh.org/event/2nd-annual-conversations-on-family-instability-and-reunification/
LOCATION:FB Live @SanctuaryofHopeLA
ATTACH;FMTTYPE=image/jpeg:https://thesoh.org/wp-content/uploads/2020/06/FamilyReunification_June25-1.jpg
END:VEVENT
BEGIN:VEVENT
DTSTART;TZID=America/Los_Angeles:20200517T000000
DTEND;TZID=America/Los_Angeles:20200517T150000
DTSTAMP:20260423T132810
CREATED:20200514T161952Z
LAST-MODIFIED:20200514T163529Z
UID:2109-1589673600-1589727600@thesoh.org
SUMMARY:Conversations on Faith and Fostering
DESCRIPTION:Sunday\, May 17\,  3 PM PST\, join Sanctuary of Hope on Facebook for a  live Woke Moments podcast on faith and fostering.  This podcast will feature Nancy Harris\, Executive Director of Faith Foster Families Network (3FN)\, and Grace Weltman\, founder of Communities in Motion and will focus on 3FN initiatives\, foster family recruitment\, and strenghtening our network of support in South Los Angeles and the South Bay.  Be sure to tune in on Sunday. 
URL:https://thesoh.org/event/conversations-on-faith-and-fostering/
LOCATION:FB Live\, @sanctuaryofhopela
ATTACH;FMTTYPE=image/jpeg:https://thesoh.org/wp-content/uploads/2020/05/Woke_Podcast5_17_20.jpg
END:VEVENT
BEGIN:VEVENT
DTSTART;TZID=UTC:20200227T090000
DTEND;TZID=UTC:20200227T120000
DTSTAMP:20260423T132810
CREATED:20200124T012148Z
LAST-MODIFIED:20200124T012148Z
UID:1900-1582794000-1582804800@thesoh.org
SUMMARY:Black Narrative Series 2020
DESCRIPTION:
URL:https://thesoh.org/event/black-narrative-series-2020/
END:VEVENT
END:VCALENDAR