BEGIN:VCALENDAR
VERSION:2.0
PRODID:-//Sanctuary of Hope - ECPv6.15.20//NONSGML v1.0//EN
CALSCALE:GREGORIAN
METHOD:PUBLISH
X-ORIGINAL-URL:https://thesoh.org
X-WR-CALDESC:Events for Sanctuary of Hope
REFRESH-INTERVAL;VALUE=DURATION:PT1H
X-Robots-Tag:noindex
X-PUBLISHED-TTL:PT1H
BEGIN:VTIMEZONE
TZID:America/Los_Angeles
BEGIN:DAYLIGHT
TZOFFSETFROM:-0800
TZOFFSETTO:-0700
TZNAME:PDT
DTSTART:20240310T100000
END:DAYLIGHT
BEGIN:STANDARD
TZOFFSETFROM:-0700
TZOFFSETTO:-0800
TZNAME:PST
DTSTART:20241103T090000
END:STANDARD
BEGIN:DAYLIGHT
TZOFFSETFROM:-0800
TZOFFSETTO:-0700
TZNAME:PDT
DTSTART:20250309T100000
END:DAYLIGHT
BEGIN:STANDARD
TZOFFSETFROM:-0700
TZOFFSETTO:-0800
TZNAME:PST
DTSTART:20251102T090000
END:STANDARD
BEGIN:DAYLIGHT
TZOFFSETFROM:-0800
TZOFFSETTO:-0700
TZNAME:PDT
DTSTART:20260308T100000
END:DAYLIGHT
BEGIN:STANDARD
TZOFFSETFROM:-0700
TZOFFSETTO:-0800
TZNAME:PST
DTSTART:20261101T090000
END:STANDARD
END:VTIMEZONE
BEGIN:VEVENT
DTSTART;TZID=America/Los_Angeles:20251119T130000
DTEND;TZID=America/Los_Angeles:20251119T150000
DTSTAMP:20260423T072355
CREATED:20251117T232835Z
LAST-MODIFIED:20251117T232835Z
UID:4180-1763557200-1763564400@thesoh.org
SUMMARY:HerTuary Gratitude Brunch
DESCRIPTION:November is Youth Hope Month\, and we’re celebrating all the light\, strength\, and brilliance YOU bring to our community. ✨🌿 \nJoin us for a cozy afternoon of brunch\, gratitude\, and uplifting connections with other young women who are growing\, glowing\, and stepping into their power. 🫶🏾✨ \n📅 Nov. 19\, 2025\n⏰ 1PM – 3PM\n📍 4003 W. Adams Blvd.\, LA 90018 \nCome fuel up with good food + good vibes as we honor hope\, sisterhood\, and the journey you’re on.\nSave your seat:\n📱 Text (424) 337-0762
URL:https://thesoh.org/event/hertuary-gratitude-brunch/
LOCATION:4003 W Adams Blvd\, Los Angeles\, CA 90018\, 4003 W. Adams Blvd.\, Los Angeles\, CA\, 90018-0000\, United States
CATEGORIES:Community
ATTACH;FMTTYPE=image/png:https://thesoh.org/wp-content/uploads/2025/11/Financial-Literacy-Workshop-19-2-scaled.png
END:VEVENT
BEGIN:VEVENT
DTSTART;TZID=America/Los_Angeles:20251120T120000
DTEND;TZID=America/Los_Angeles:20251120T150000
DTSTAMP:20260423T072355
CREATED:20251117T234425Z
LAST-MODIFIED:20251117T234425Z
UID:4184-1763640000-1763650800@thesoh.org
SUMMARY:Mantuary November 2025
DESCRIPTION:Calling all young men seeking connection and mentorship or mature men eager to guide and empower others! Join us at Sanctuary of Hope’s Mantuary Lunch\, held every last Thursday of the month at 12 pm. The Mantuary offers a nurturing environment for intergenerational bonding\, wellness\, and empowerment.
URL:https://thesoh.org/event/mantuary-november-2025/
LOCATION:4003 W Adams Blvd\, Los Angeles\, CA 90018\, 4003 W. Adams Blvd.\, Los Angeles\, CA\, 90018-0000\, United States
ATTACH;FMTTYPE=image/jpeg:https://thesoh.org/wp-content/uploads/2025/11/Mantuary-11202025.jpg
END:VEVENT
BEGIN:VEVENT
DTSTART;TZID=America/Los_Angeles:20251125T180000
DTEND;TZID=America/Los_Angeles:20251125T190000
DTSTAMP:20260423T072355
CREATED:20251121T043120Z
LAST-MODIFIED:20251121T043322Z
UID:4193-1764093600-1764097200@thesoh.org
SUMMARY:Multi-Faith Candlelight Vigil for Youth HOPE Month
DESCRIPTION:Join Sanctuary of Hope for a warm and reflective Multi-Faith Candlelight Vigil in honor of Youth HOPE Month. This gathering brings together community members and spiritual leaders from Christian\, Jewish/Torah\, Muslim\, Buddhist\, Orisa/Ifá\, and other traditions to lift up young people experiencing homelessness\, housing instability\, or crisis. \nThe evening will include short prayers and blessings from multiple faiths\, offering messages of hope\, courage\, and protection for our youth. We will also hold a gentle moment of remembrance as we read the names of young lives lost\, honoring their light and the call they leave with us to continue showing care and compassion. \nAll are welcome—individuals of every faith\, background\, and walk of life. Candles will be provided. \n📅 Tuesday\, November 25\, 2025\n🕕 6:00 PM\n📍 Sanctuary of Hope\n4003 W. Adams Blvd.\, Los Angeles\, CA \nLet’s come together as a community to light the night with hope.
URL:https://thesoh.org/event/multi-faith-candlelight-vigil-for-youth-hope/
LOCATION:4003 W Adams Blvd\, Los Angeles\, CA 90018\, 4003 W. Adams Blvd.\, Los Angeles\, CA\, 90018-0000\, United States
CATEGORIES:Community
ATTACH;FMTTYPE=image/png:https://thesoh.org/wp-content/uploads/2025/11/Multifaith-Candlelight-Vigil-10-scaled.png
END:VEVENT
BEGIN:VEVENT
DTSTART;TZID=America/Los_Angeles:20251126T160000
DTEND;TZID=America/Los_Angeles:20251126T200000
DTSTAMP:20260423T072355
CREATED:20251121T051747Z
LAST-MODIFIED:20251121T051747Z
UID:4203-1764172800-1764187200@thesoh.org
SUMMARY:SOH Annual Harvest Celebration
DESCRIPTION:The harvest season is here—and at Sanctuary of Hope\, we’re celebrating it with gratitude\, community\, and togetherness. If you’re looking for a place to feel welcomed\, supported\, and surrounded by good vibes this holiday season\, your SOH family is here for you. \nYou don’t have to spend the holidays alone.Come share an evening of joy\, comfort\, and connection. 💛 \n✨ A Festive Evening of Togetherness\nJoin us as we celebrate the warmth of the season with: \n🍁 Delicious food & fall treats🍁 Laughter\, games & music🍁 A cozy\, family-style atmosphere🍁 People who are grateful to have YOU with us🍁 A safe\, uplifting space where you belong \nThis is more than an event—it’s a moment to breathe\, refuel\, and be reminded that you are part of a caring community.At SOH\, we’re thankful for you. \n📅 Event Details\nDate: Tuesday\, November 25Time: 4:00 PM – 8:00 PMLocation: 4003 W. Adams Blvd.\, Los Angeles\, CA 90018 \n💛 Come Celebrate With Your SOH Family\nThe holidays are brighter when we share them together.Let’s celebrate the season with warmth\, gratitude\, and community—SOH style.We can’t wait to gather with you!
URL:https://thesoh.org/event/soh-annual-harvest-celebration/
LOCATION:4003 W Adams Blvd\, Los Angeles\, CA 90018\, 4003 W. Adams Blvd.\, Los Angeles\, CA\, 90018-0000\, United States
ATTACH;FMTTYPE=image/png:https://thesoh.org/wp-content/uploads/2025/11/Harvest-Fest-2025.png
END:VEVENT
BEGIN:VEVENT
DTSTART;TZID=America/Los_Angeles:20251130T150000
DTEND;TZID=America/Los_Angeles:20251130T180000
DTSTAMP:20260423T072355
CREATED:20251121T050622Z
LAST-MODIFIED:20251121T050623Z
UID:4200-1764514800-1764525600@thesoh.org
SUMMARY:The Dash That Made the Difference – Los Angeles Premiere Screening
DESCRIPTION:Join Sanctuary of Hope for the Los Angeles premiere of The Dash That Made the Difference\, a youth-led documentary created by our Young Action Leaders. This powerful film shines a long-overdue spotlight on Lowndes County\, an essential yet often overlooked part of the Selma to Montgomery story. Through the voices of youth\, the documentary explores intergenerational history\, activism\, and the ongoing fight for justice. \nThis special screening is part of Youth Hope Month\, where we elevate youth voices and Ignite Hope across our community. \nWe invite you to share a meal\, experience the film\, and engage in meaningful dialogue with our youth and community partners. \nEvent Details\nDate: Sunday\, November 30Time: 3:00 pm – 6:00 pmLocation: Strategy & Soul3546 W. Martin Luther King Blvd.Los Angeles\, CA 90008 \nDinner will be provided. \nAbout the Documentary\nThe Dash That Made the Difference has already made an impact at its national and community premieres: \n\n\nInternational Counseling and Treating People of Color Conference: The youth debuted their film to an audience of practitioners\, educators\, and advocates\, receiving praise for lifting up an essential but under-told civil rights narrative. \n\n\nLowndes County Friends of the Civil Rights Movement: They hosted a private screening in Alabama\, grounding the film in the very community whose legacy they are honoring. \n\n\nThe documentary gives voice to the everyday activists\, elders\, families\, and freedom fighters of Lowndes County—capturing the “dash” that connects past to present and inspiring the next generation to carry the work forward. \nWhy You Should Attend\nThis premiere offers a unique opportunity to: \n\n\nExperience a youth-produced documentary rooted in real community history \n\n\nLearn about Lowndes County’s vital place in the civil rights movement \n\n\nParticipate in dialogue on activism\, memory\, and justice \n\n\nSupport the leadership\, creativity\, and voices of Sanctuary of Hope youth \n\n\nConnect with community members invested in storytelling and truth-telling \n\n\nRSVP\nSeats are limited. Please RSVP to secure your spot.RSVP here. \nBe Part of the Movement\nAs we honor Youth Hope Month and Ignite Hope\, we invite you to witness the power of youth storytelling and the resilience of a community whose story deserves to be told. \nWe hope to see you there.
URL:https://thesoh.org/event/the-dash-that-made-the-difference-los-angeles-premiere-screening/
LOCATION:Strategy and Soul\, 3546 W. Martin Luther King Blvd.\, Los Angeles\, CA\, 90008
ATTACH;FMTTYPE=image/jpeg:https://thesoh.org/wp-content/uploads/2025/11/Screenshot_20251120_152810_WhatsApp.jpg
END:VEVENT
END:VCALENDAR