BEGIN:VCALENDAR
VERSION:2.0
PRODID:-//Sanctuary of Hope - ECPv6.15.20//NONSGML v1.0//EN
CALSCALE:GREGORIAN
METHOD:PUBLISH
X-ORIGINAL-URL:https://thesoh.org
X-WR-CALDESC:Events for Sanctuary of Hope
REFRESH-INTERVAL;VALUE=DURATION:PT1H
X-Robots-Tag:noindex
X-PUBLISHED-TTL:PT1H
BEGIN:VTIMEZONE
TZID:America/Los_Angeles
BEGIN:DAYLIGHT
TZOFFSETFROM:-0800
TZOFFSETTO:-0700
TZNAME:PDT
DTSTART:20250309T100000
END:DAYLIGHT
BEGIN:STANDARD
TZOFFSETFROM:-0700
TZOFFSETTO:-0800
TZNAME:PST
DTSTART:20251102T090000
END:STANDARD
BEGIN:DAYLIGHT
TZOFFSETFROM:-0800
TZOFFSETTO:-0700
TZNAME:PDT
DTSTART:20260308T100000
END:DAYLIGHT
BEGIN:STANDARD
TZOFFSETFROM:-0700
TZOFFSETTO:-0800
TZNAME:PST
DTSTART:20261101T090000
END:STANDARD
BEGIN:DAYLIGHT
TZOFFSETFROM:-0800
TZOFFSETTO:-0700
TZNAME:PDT
DTSTART:20270314T100000
END:DAYLIGHT
BEGIN:STANDARD
TZOFFSETFROM:-0700
TZOFFSETTO:-0800
TZNAME:PST
DTSTART:20271107T090000
END:STANDARD
END:VTIMEZONE
BEGIN:VEVENT
DTSTART;TZID=America/Los_Angeles:20260115T130000
DTEND;TZID=America/Los_Angeles:20260115T140000
DTSTAMP:20260423T041147
CREATED:20260113T173420Z
LAST-MODIFIED:20260113T173420Z
UID:4252-1768482000-1768485600@thesoh.org
SUMMARY:Money Moves = Power Moves | HerTuary Financial Empowerment Workshop 2026
DESCRIPTION:💸 Money Moves = Power Moves 💸 \nAnd in 2026\, HerTuary is all about moving forward—financially\, career-wise\, and mentally. \nYour money should work for you\, not against you. This Financial Empowerment Workshop is designed to help young women build confidence\, skills\, and strategies that lead to real economic independence. \n📈 Come ready to move with a growth mindset and learn how to:\n✔ Manage your money with confidence\n✔ Build real-life budgets that actually work\n✔ Explore career and entrepreneurship pathways\n✔ Turn savings into stability — including a $200 savings match \nWe’re not just talking about financial freedom—we’re modeling it\, together. \n📅 January 15\, 2026\n🕐 1:00–2:00 PM\n📍 4003 W. Adams Blvd\, Los Angeles\, CA 90018 \n🔐 Spots are limited. Secure yours now.\n📲 Text (424) 337-0762 to reserve your spot. \nYour glow-up includes your finances. Let’s make money moves that last.
URL:https://thesoh.org/event/money-moves-power-moves-hertuary-financial-empowerment-workshop-2026/
CATEGORIES:Community
ATTACH;FMTTYPE=image/jpeg:https://thesoh.org/wp-content/uploads/2026/01/613136946_1331205049034854_2670612624786777046_n.jpg
END:VEVENT
BEGIN:VEVENT
DTSTART;TZID=America/Los_Angeles:20260116T110000
DTEND;TZID=America/Los_Angeles:20260116T150000
DTSTAMP:20260423T041147
CREATED:20260113T172830Z
LAST-MODIFIED:20260113T172831Z
UID:4249-1768561200-1768575600@thesoh.org
SUMMARY:Sanctuary of Hope Job Fair & Career Expo | Start the New Year with Opportunity
DESCRIPTION:Looking for a job or a better paycheck in the new year?\nLet’s help you make real connections and land something solid. \nSanctuary of Hope is hosting a Job Fair & Career Expo designed just for YOU. This is your chance to meet employers\, explore job opportunities\, gain career tips\, and access resources that can put you on a real path toward economic stability. \nWhether you’re actively job hunting\, ready to level up\, or simply need guidance\, this is your moment. Come prepared to connect\, learn\, and take action. \n✔ Meet hiring employers\n✔ Learn about open positions and career pathways\n✔ Get practical career advice\n✔ Interview on the spot \nShow up. Bring your resume. Dress business casual.\nYour next opportunity could start here—pull up and take the first step.
URL:https://thesoh.org/event/sanctuary-of-hope-job-fair-career-expo-start-the-new-year-with-opportunity/
LOCATION:4003 W Adams Blvd\, Los Angeles\, CA 90018\, 4003 W. Adams Blvd.\, Los Angeles\, CA\, 90018-0000\, United States
CATEGORIES:Community
ATTACH;FMTTYPE=image/jpeg:https://thesoh.org/wp-content/uploads/2026/01/615165127_1334102945411731_6211108493457080746_n.jpg
END:VEVENT
END:VCALENDAR