BEGIN:VCALENDAR
VERSION:2.0
PRODID:-//Sanctuary of Hope - ECPv6.15.20//NONSGML v1.0//EN
CALSCALE:GREGORIAN
METHOD:PUBLISH
X-WR-CALNAME:Sanctuary of Hope
X-ORIGINAL-URL:https://thesoh.org
X-WR-CALDESC:Events for Sanctuary of Hope
REFRESH-INTERVAL;VALUE=DURATION:PT1H
X-Robots-Tag:noindex
X-PUBLISHED-TTL:PT1H
BEGIN:VTIMEZONE
TZID:America/Los_Angeles
BEGIN:DAYLIGHT
TZOFFSETFROM:-0800
TZOFFSETTO:-0700
TZNAME:PDT
DTSTART:20240310T100000
END:DAYLIGHT
BEGIN:STANDARD
TZOFFSETFROM:-0700
TZOFFSETTO:-0800
TZNAME:PST
DTSTART:20241103T090000
END:STANDARD
BEGIN:DAYLIGHT
TZOFFSETFROM:-0800
TZOFFSETTO:-0700
TZNAME:PDT
DTSTART:20250309T100000
END:DAYLIGHT
BEGIN:STANDARD
TZOFFSETFROM:-0700
TZOFFSETTO:-0800
TZNAME:PST
DTSTART:20251102T090000
END:STANDARD
BEGIN:DAYLIGHT
TZOFFSETFROM:-0800
TZOFFSETTO:-0700
TZNAME:PDT
DTSTART:20260308T100000
END:DAYLIGHT
BEGIN:STANDARD
TZOFFSETFROM:-0700
TZOFFSETTO:-0800
TZNAME:PST
DTSTART:20261101T090000
END:STANDARD
END:VTIMEZONE
BEGIN:VEVENT
DTSTART;TZID=America/Los_Angeles:20251023T173000
DTEND;TZID=America/Los_Angeles:20251023T203000
DTSTAMP:20260422T224537
CREATED:20250915T224450Z
LAST-MODIFIED:20250916T161240Z
UID:4140-1761240600-1761251400@thesoh.org
SUMMARY:Hope Starts Here\, and it Continues: Celebrating 15 Years of Sanctuary of Hope!
DESCRIPTION:Join Sanctuary of Hope (SOH) as we celebrate 15 years of providing hope\, transformation\, and sanctuary to young people in Los Angeles. This special event is a chance to honor the incredible journey of our organization and the lives we’ve touched. \nWhat to Expect: \nStories of Impact: Hear directly from the young leaders who have been empowered by SOH’s programs and services.\nExclusive Documentary Sneak Peek: Get a first look at our inspiring new documentary\, highlighting the Destinations program and mission of Sanctuary of Hope.\nNetworking and Community: Connect with supporters\, staff\, and other community members who are passionate about making a difference. \nDelicious Eats & Music \nYour attendance helps us continue our vital work of providing housing\, education\, and support to at-promise and low-income youth. \nEvent Details: \nDate: Thursday\, October 23\, 2025\nTime: 5:30 PM – 8:30 PM\nLocation: 4391 W. Mt. Vernon Dr.\, View Park\, CA 90043\nTickets: $100\nSponsorships & Ads: Opportunities are available to support our cause. \nSponsorship Opportunities: Celebrating 15 Years of Sanctuary of Hope \nVisionary Sponsor – $5\,000\n10 VIP Seats\nFull-page ad in the souvenir journal (Cover ad placement for the first 3 sponsors)\nLarge logo placement on the event step-and-repeat banner\nPremier logo placement on all event communications and SOH website\nSpecial on-stage acknowledgement during the event\nOpportunity to include a promotional item in the guest gift bags\nSocial media shout-out across all Sanctuary of Hope channels \nPillar of Hope Sponsor – $4\,000\n8 VIP Seats\nFull-page ad in the souvenir journal (premier placement)\nProminent logo placement on the event step-and-repeat banner\nLogo placement on all event communications and SOH website\nSpecial on-stage acknowledgement during the event\nSocial media shout-out across all Sanctuary of Hope channels \nChampion of Change Sponsor – $3\,000\n6 VIP Seats\nFull-page ad in the souvenir journal\nLogo placement on the event step-and-repeat banner\nLogo placement on the event page of the SOH website\nVerbal recognition during the event \nInnovator Sponsor – $2\,000\n4 VIP Seats\nHalf-page ad in the souvenir journal\nLogo placement on the event step-and-repeat banner\nLogo placement on the event page of the SOH website \nCommunity Sponsor – $1\,000\n2 VIP Seats\nHalf page ad in the souvenir journal\nName listing on the event page of the SOH website \nAd Rates for the Souvenir Journal \n$500 – Full page (5.5 x 8.5) \n$250 – Half page (5.5 x 4.25) \n$100 – Quarter page (2.75 x 4.25) \n$50 – Business card \nAd specs: Must be the dimensions indicated above\, and a jpg\, png or pdf file. E-mail ads to: Events@thesoh.org \nTo request an invoice for sponsorship or ads to pay via check\, please send an e-mail request to: Events@thesoh.org.
URL:https://thesoh.org/event/hope-starts-here-and-it-continues-celebrating-15-years-of-sanctuary-of-hope/
CATEGORIES:Community
ATTACH;FMTTYPE=image/jpeg:https://thesoh.org/wp-content/uploads/2025/09/SOH15thEvent-1-scaled.jpg
END:VEVENT
END:VCALENDAR