BEGIN:VCALENDAR
VERSION:2.0
PRODID:-//Sanctuary of Hope - ECPv6.15.20//NONSGML v1.0//EN
CALSCALE:GREGORIAN
METHOD:PUBLISH
X-WR-CALNAME:Sanctuary of Hope
X-ORIGINAL-URL:https://thesoh.org
X-WR-CALDESC:Events for Sanctuary of Hope
REFRESH-INTERVAL;VALUE=DURATION:PT1H
X-Robots-Tag:noindex
X-PUBLISHED-TTL:PT1H
BEGIN:VTIMEZONE
TZID:America/Los_Angeles
BEGIN:DAYLIGHT
TZOFFSETFROM:-0800
TZOFFSETTO:-0700
TZNAME:PDT
DTSTART:20240310T100000
END:DAYLIGHT
BEGIN:STANDARD
TZOFFSETFROM:-0700
TZOFFSETTO:-0800
TZNAME:PST
DTSTART:20241103T090000
END:STANDARD
BEGIN:DAYLIGHT
TZOFFSETFROM:-0800
TZOFFSETTO:-0700
TZNAME:PDT
DTSTART:20250309T100000
END:DAYLIGHT
BEGIN:STANDARD
TZOFFSETFROM:-0700
TZOFFSETTO:-0800
TZNAME:PST
DTSTART:20251102T090000
END:STANDARD
BEGIN:DAYLIGHT
TZOFFSETFROM:-0800
TZOFFSETTO:-0700
TZNAME:PDT
DTSTART:20260308T100000
END:DAYLIGHT
BEGIN:STANDARD
TZOFFSETFROM:-0700
TZOFFSETTO:-0800
TZNAME:PST
DTSTART:20261101T090000
END:STANDARD
END:VTIMEZONE
BEGIN:VEVENT
DTSTART;TZID=America/Los_Angeles:20250928T163000
DTEND;TZID=America/Los_Angeles:20250928T203000
DTSTAMP:20260422T205313
CREATED:20250925T185350Z
LAST-MODIFIED:20250925T185351Z
UID:4152-1759077000-1759091400@thesoh.org
SUMMARY:HerTuary Movie & Dessert
DESCRIPTION:Hey fam\, we’re kicking back this month with a Sunday Reset just for you — movies + dessert = the perfect vibe before the new week starts. 🎬🍦✨ \nCome chill\, laugh\, and connect with other young women for an evening of community\, convo\, and sweet treats. 💕 \n📅 Sunday\, Sept 28\n📍 Baldwin Hills AMC + Yogurtland \n👉 RSVP to lock in your spot: Text (424) 337-0762\n(no RSVP\, no entry 👀)
URL:https://thesoh.org/event/hertuary-movie-dessert/
CATEGORIES:Community
ATTACH;FMTTYPE=image/png:https://thesoh.org/wp-content/uploads/2025/09/Her-14-scaled.png
END:VEVENT
END:VCALENDAR