BEGIN:VCALENDAR
VERSION:2.0
PRODID:-//Sanctuary of Hope - ECPv6.15.20//NONSGML v1.0//EN
CALSCALE:GREGORIAN
METHOD:PUBLISH
X-ORIGINAL-URL:https://thesoh.org
X-WR-CALDESC:Events for Sanctuary of Hope
REFRESH-INTERVAL;VALUE=DURATION:PT1H
X-Robots-Tag:noindex
X-PUBLISHED-TTL:PT1H
BEGIN:VTIMEZONE
TZID:America/Los_Angeles
BEGIN:DAYLIGHT
TZOFFSETFROM:-0800
TZOFFSETTO:-0700
TZNAME:PDT
DTSTART:20240310T100000
END:DAYLIGHT
BEGIN:STANDARD
TZOFFSETFROM:-0700
TZOFFSETTO:-0800
TZNAME:PST
DTSTART:20241103T090000
END:STANDARD
BEGIN:DAYLIGHT
TZOFFSETFROM:-0800
TZOFFSETTO:-0700
TZNAME:PDT
DTSTART:20250309T100000
END:DAYLIGHT
BEGIN:STANDARD
TZOFFSETFROM:-0700
TZOFFSETTO:-0800
TZNAME:PST
DTSTART:20251102T090000
END:STANDARD
BEGIN:DAYLIGHT
TZOFFSETFROM:-0800
TZOFFSETTO:-0700
TZNAME:PDT
DTSTART:20260308T100000
END:DAYLIGHT
BEGIN:STANDARD
TZOFFSETFROM:-0700
TZOFFSETTO:-0800
TZNAME:PST
DTSTART:20261101T090000
END:STANDARD
END:VTIMEZONE
BEGIN:VEVENT
DTSTART;TZID=America/Los_Angeles:20250716T120000
DTEND;TZID=America/Los_Angeles:20250716T150000
DTSTAMP:20260422T234408
CREATED:20250709T221617Z
LAST-MODIFIED:20250709T221617Z
UID:4103-1752667200-1752678000@thesoh.org
SUMMARY:HerTuary: A Space for Women and Girls to Grow\, Glow & Level Up
DESCRIPTION:HerTuary isn’t just an event — it’s a movement built for young women and girls to connect\, heal\, and power up for what’s next. \nThis is your space to build confidence\, make career moves\, grow your financial game\, and vibe with a community of sisterfriends who see you and support you. \nWhat to Expect:\n\nReal talk + honest conversations\nCareer\, money\, and wellness insights\nLight bites and chill energy\nEmpowering connections with women who’ve been there\nA space made just for you\n\nKickoff Event Details:\n📅 Tuesday\, July 16\, 2025\n⏰ 12:00 PM – 3:00 PM\n📍 4003 W. Adams Blvd.\, Los Angeles\, CA 90018\n📩 RSVP by July 14 \nThis is where HerWorth meets real power.\nCome as you are. Leave with more.\nThis is sisterhood in motion. 💼💖 \n 
URL:https://thesoh.org/event/hertuary-a-space-for-women-and-girls-to-grow-glow-level-up/
LOCATION:4003 W Adams Blvd\, Los Angeles\, CA 90018\, 4003 W. Adams Blvd.\, Los Angeles\, CA\, 90018-0000\, United States
CATEGORIES:Community
ATTACH;FMTTYPE=image/jpeg:https://thesoh.org/wp-content/uploads/2025/07/Her-8-scaled.jpg
END:VEVENT
END:VCALENDAR