BEGIN:VCALENDAR
VERSION:2.0
PRODID:-//Sanctuary of Hope - ECPv6.15.20//NONSGML v1.0//EN
CALSCALE:GREGORIAN
METHOD:PUBLISH
X-WR-CALNAME:Sanctuary of Hope
X-ORIGINAL-URL:https://thesoh.org
X-WR-CALDESC:Events for Sanctuary of Hope
REFRESH-INTERVAL;VALUE=DURATION:PT1H
X-Robots-Tag:noindex
X-PUBLISHED-TTL:PT1H
BEGIN:VTIMEZONE
TZID:America/Los_Angeles
BEGIN:DAYLIGHT
TZOFFSETFROM:-0800
TZOFFSETTO:-0700
TZNAME:PDT
DTSTART:20240310T100000
END:DAYLIGHT
BEGIN:STANDARD
TZOFFSETFROM:-0700
TZOFFSETTO:-0800
TZNAME:PST
DTSTART:20241103T090000
END:STANDARD
BEGIN:DAYLIGHT
TZOFFSETFROM:-0800
TZOFFSETTO:-0700
TZNAME:PDT
DTSTART:20250309T100000
END:DAYLIGHT
BEGIN:STANDARD
TZOFFSETFROM:-0700
TZOFFSETTO:-0800
TZNAME:PST
DTSTART:20251102T090000
END:STANDARD
BEGIN:DAYLIGHT
TZOFFSETFROM:-0800
TZOFFSETTO:-0700
TZNAME:PDT
DTSTART:20260308T100000
END:DAYLIGHT
BEGIN:STANDARD
TZOFFSETFROM:-0700
TZOFFSETTO:-0800
TZNAME:PST
DTSTART:20261101T090000
END:STANDARD
END:VTIMEZONE
BEGIN:VEVENT
DTSTART;TZID=America/Los_Angeles:20250829T130000
DTEND;TZID=America/Los_Angeles:20250829T150000
DTSTAMP:20260423T002237
CREATED:20250820T183742Z
LAST-MODIFIED:20250820T183742Z
UID:4118-1756472400-1756479600@thesoh.org
SUMMARY:HerTuary Getting To Know You: Chit Chat
DESCRIPTION:Let’s pour into each other\, get to know ourselves\, and connect in sisterhood. \nJoin us for HerTuary: Getting to Know You – Chit-Chat\n📅 August 29\, 2025 | 🕐 1–3 PM\n📍 4003 W. Adams Blvd\, Los Angeles \nThis is a space for women and girls (16–25) to share\, grow\, and be reminded that leveling up starts within and is strengthened in community. \nCome as you are\, leave with good vibes\, laughter\, and a little more of you discovered. 💜 \nRSVP by August 27 – Text (424) 337-0762 to save your spot. \nSuggested hashtags:\n#HerTuary #GettingToKnowYou #ChitChat #WomenSupportingWomen #Sisterhood #LevelUpTogether #GoodVibesOnly #YoungWomenRise #SelfDiscovery #CommunityCare \n 
URL:https://thesoh.org/event/hertuary-getting-to-know-you-chit-chat/
LOCATION:4003 W Adams Blvd\, Los Angeles\, CA 90018\, 4003 W. Adams Blvd.\, Los Angeles\, CA\, 90018-0000\, United States
CATEGORIES:Community
ATTACH;FMTTYPE=image/jpeg:https://thesoh.org/wp-content/uploads/2025/08/Hertuary-GTKY-082025-1.jpg
END:VEVENT
END:VCALENDAR