BEGIN:VCALENDAR
VERSION:2.0
PRODID:-//Sanctuary of Hope - ECPv6.15.20//NONSGML v1.0//EN
CALSCALE:GREGORIAN
METHOD:PUBLISH
X-ORIGINAL-URL:https://thesoh.org
X-WR-CALDESC:Events for Sanctuary of Hope
REFRESH-INTERVAL;VALUE=DURATION:PT1H
X-Robots-Tag:noindex
X-PUBLISHED-TTL:PT1H
BEGIN:VTIMEZONE
TZID:America/Los_Angeles
BEGIN:DAYLIGHT
TZOFFSETFROM:-0800
TZOFFSETTO:-0700
TZNAME:PDT
DTSTART:20230312T100000
END:DAYLIGHT
BEGIN:STANDARD
TZOFFSETFROM:-0700
TZOFFSETTO:-0800
TZNAME:PST
DTSTART:20231105T090000
END:STANDARD
BEGIN:DAYLIGHT
TZOFFSETFROM:-0800
TZOFFSETTO:-0700
TZNAME:PDT
DTSTART:20240310T100000
END:DAYLIGHT
BEGIN:STANDARD
TZOFFSETFROM:-0700
TZOFFSETTO:-0800
TZNAME:PST
DTSTART:20241103T090000
END:STANDARD
BEGIN:DAYLIGHT
TZOFFSETFROM:-0800
TZOFFSETTO:-0700
TZNAME:PDT
DTSTART:20250309T100000
END:DAYLIGHT
BEGIN:STANDARD
TZOFFSETFROM:-0700
TZOFFSETTO:-0800
TZNAME:PST
DTSTART:20251102T090000
END:STANDARD
END:VTIMEZONE
BEGIN:VEVENT
DTSTART;TZID=America/Los_Angeles:20241101T080000
DTEND;TZID=America/Los_Angeles:20241101T233000
DTSTAMP:20260423T120957
CREATED:20241031T232408Z
LAST-MODIFIED:20241108T154756Z
UID:3835-1730448000-1730503800@thesoh.org
SUMMARY:Youth HOPE Month
DESCRIPTION:Youth HOPE Month is here!  It is a re-branding from National Runaway Prevention and Homeless Youth Awareness Month to Youth Homelessness Outreach Prevention and Education Month – Youth HOPE Month. \nYouth HOPE Month shines light on issues facing young people who are considering leaving home or have run away and are experiencing homelessness.  In the United States\, 4.2 million youth experience homelessness; and in Los Angeles County\, on any given night\, 3\,000 youth experience street homelessness. \nAlthough the statistics may be discouraging\, we have a lot to be hopeful about because we are at the center of hope. More than 1\,200 young people come through SOH’s doors annually for crisis resolution and leave with mentorship\, support systems\, and social capital. \nWe have a big ASK.  The ask is that you get involved and participate in Youth HOPE Month by following SOH’s social media and setting up alerts and attending our in-person events.
URL:https://thesoh.org/event/youth-hope-month/
CATEGORIES:Community
ATTACH;FMTTYPE=image/jpeg:https://thesoh.org/wp-content/uploads/2024/10/SOH_HYAM2024-1-scaled.jpg
END:VEVENT
END:VCALENDAR