BEGIN:VCALENDAR
VERSION:2.0
PRODID:-//Sanctuary of Hope - ECPv6.15.20//NONSGML v1.0//EN
CALSCALE:GREGORIAN
METHOD:PUBLISH
X-ORIGINAL-URL:https://thesoh.org
X-WR-CALDESC:Events for Sanctuary of Hope
REFRESH-INTERVAL;VALUE=DURATION:PT1H
X-Robots-Tag:noindex
X-PUBLISHED-TTL:PT1H
BEGIN:VTIMEZONE
TZID:America/Los_Angeles
BEGIN:DAYLIGHT
TZOFFSETFROM:-0800
TZOFFSETTO:-0700
TZNAME:PDT
DTSTART:20230312T100000
END:DAYLIGHT
BEGIN:STANDARD
TZOFFSETFROM:-0700
TZOFFSETTO:-0800
TZNAME:PST
DTSTART:20231105T090000
END:STANDARD
BEGIN:DAYLIGHT
TZOFFSETFROM:-0800
TZOFFSETTO:-0700
TZNAME:PDT
DTSTART:20240310T100000
END:DAYLIGHT
BEGIN:STANDARD
TZOFFSETFROM:-0700
TZOFFSETTO:-0800
TZNAME:PST
DTSTART:20241103T090000
END:STANDARD
BEGIN:DAYLIGHT
TZOFFSETFROM:-0800
TZOFFSETTO:-0700
TZNAME:PDT
DTSTART:20250309T100000
END:DAYLIGHT
BEGIN:STANDARD
TZOFFSETFROM:-0700
TZOFFSETTO:-0800
TZNAME:PST
DTSTART:20251102T090000
END:STANDARD
END:VTIMEZONE
BEGIN:VEVENT
DTSTART;TZID=America/Los_Angeles:20241024T120000
DTEND;TZID=America/Los_Angeles:20241024T160000
DTSTAMP:20260423T142257
CREATED:20241017T204220Z
LAST-MODIFIED:20241017T220447Z
UID:3822-1729771200-1729785600@thesoh.org
SUMMARY:The Mantuary
DESCRIPTION:Are you a young man looking for a safe place to connect and build bonds or mature man looking to mentor and provide guidance\, then join us at Sanctuary of Hope’s Mantuary Lunch\, every last Thursday of the month at 12 pm. The Mantuary is a multi-generational space for food\, fellowship\, empowerment\, wellness\, and more. Contact us to learn more. \n  \n 
URL:https://thesoh.org/event/the-mantuary-2/
ATTACH;FMTTYPE=image/jpeg:https://thesoh.org/wp-content/uploads/2024/10/Mantuary-1024.jpg
ORGANIZER;CN="Sanctuary of Hope":MAILTO:collegeican@thesoh.org
END:VEVENT
END:VCALENDAR