BEGIN:VCALENDAR
VERSION:2.0
PRODID:-//Sanctuary of Hope - ECPv6.15.20//NONSGML v1.0//EN
CALSCALE:GREGORIAN
METHOD:PUBLISH
X-ORIGINAL-URL:https://thesoh.org
X-WR-CALDESC:Events for Sanctuary of Hope
REFRESH-INTERVAL;VALUE=DURATION:PT1H
X-Robots-Tag:noindex
X-PUBLISHED-TTL:PT1H
BEGIN:VTIMEZONE
TZID:America/Los_Angeles
BEGIN:DAYLIGHT
TZOFFSETFROM:-0800
TZOFFSETTO:-0700
TZNAME:PDT
DTSTART:20240310T100000
END:DAYLIGHT
BEGIN:STANDARD
TZOFFSETFROM:-0700
TZOFFSETTO:-0800
TZNAME:PST
DTSTART:20241103T090000
END:STANDARD
BEGIN:DAYLIGHT
TZOFFSETFROM:-0800
TZOFFSETTO:-0700
TZNAME:PDT
DTSTART:20250309T100000
END:DAYLIGHT
BEGIN:STANDARD
TZOFFSETFROM:-0700
TZOFFSETTO:-0800
TZNAME:PST
DTSTART:20251102T090000
END:STANDARD
BEGIN:DAYLIGHT
TZOFFSETFROM:-0800
TZOFFSETTO:-0700
TZNAME:PDT
DTSTART:20260308T100000
END:DAYLIGHT
BEGIN:STANDARD
TZOFFSETFROM:-0700
TZOFFSETTO:-0800
TZNAME:PST
DTSTART:20261101T090000
END:STANDARD
END:VTIMEZONE
BEGIN:VEVENT
DTSTART;TZID=America/Los_Angeles:20251017T130000
DTEND;TZID=America/Los_Angeles:20251017T150000
DTSTAMP:20260422T214959
CREATED:20251013T161706Z
LAST-MODIFIED:20251013T161706Z
UID:4162-1760706000-1760713200@thesoh.org
SUMMARY:Little Pumpkins Playdate
DESCRIPTION:We’re bringing the fall feels with our Little Pumpkins Playdate — a chill day to paint pumpkins\, decorate cookies\, and connect with other young families & soon-to-be parents 🍪🎨🍂 \n📅 Thursday\, October 17\, 2025⏰ 1 PM – 3 PM📍 4003 W. Adams Ave\, Los Angeles\, CA 90018 \n👶🏾💛 Whether you’re expecting or already have a little one\, come through to chill and celebrate the season with your community. \n🔗 RSVP now — spots are limited!📧 Email Griselda.Mata@thesoh.org \n🧡 Hope Starts Here. #SanctuaryOfHope #LittlePumpkinsPlaydate
URL:https://thesoh.org/event/little-pumpkins-playdate/
LOCATION:4003 W Adams Blvd\, Los Angeles\, CA 90018\, 4003 W. Adams Blvd.\, Los Angeles\, CA\, 90018-0000\, United States
ATTACH;FMTTYPE=image/png:https://thesoh.org/wp-content/uploads/2025/10/Little-1-1-scaled.png
END:VEVENT
END:VCALENDAR